BEGIN:VCALENDAR
METHOD:PUBLISH
PRODID:Data::ICal 0.13
VERSION:2.0
BEGIN:VEVENT
DESCRIPTION:Join us downtown at The Slippery Noodle Inn on Sunday, September 14th for the Ultimate Tailgate before some action at Lucas Oil Stadium!\n\nWe will have food, drinks, station swag and more!\n\nStay refreshed with:\n\n 	$6 Neutrl seltzers\n 	$5.75 Michelob Ultra and Bud Light beers\n 	$7 Jack Daniels cocktails\n 	$8 Bloody Mary&#039;s and Maria&#039;s Margaritas\n\nThe tailgate opens at 11:00AM so come down to kick off your Sunday Funday with us, before the pigskin flies at 4:05PM in Lucas Oil Stadium.
DTSTAMP:20260423T191950Z
DTSTART;TZID=America/Indiana/Indianapolis:20250914T110000
DTEND;TZID=America/Indiana/Indianapolis:20250914T160500
LOCATION:372 S Meridian St\, Indianapolis\, IN 46225
SUMMARY:The Ultimate Tailgate – 9/14
UID:559480-1757847600-1757865900
END:VEVENT
END:VCALENDAR
