BEGIN:VCALENDAR
METHOD:PUBLISH
PRODID:Data::ICal 0.13
VERSION:2.0
BEGIN:VEVENT
DESCRIPTION:Join us downtown at The Slippery Noodle Inn on Sunday, September 7th for the Ultimate Tailgate before some action at Lucas Oil Stadium!\n\nWe will have food, drinks, station swag and more!\n\nStay refreshed with:\n\n 	$6 Neutrl seltzers\n 	$5.75 Michelob Ultra and Bud Light beers\n 	$7 Jack Daniels cocktails\n 	$8 Bloody Mary&#039;s and Maria&#039;s Margaritas\n\nThe tailgate opens at 9:30AM so come down to kick off your Sunday Funday with us, before the pigskin flies at 1PM in Lucas Oil Stadium.
DTSTAMP:20260419T162957Z
DTSTART;TZID=America/Indiana/Indianapolis:20250907T093000
DTEND;TZID=America/Indiana/Indianapolis:20250907T130000
LOCATION:372 S Meridian St\, Indianapolis\, IN 46225
SUMMARY:The Ultimate Tailgate – 9/7
UID:559481-1757237400-1757250000
END:VEVENT
END:VCALENDAR
